BEGIN:VCALENDAR
VERSION:2.0
PRODID:-//pretix//pretix.eu//
BEGIN:VTIMEZONE
TZID:Europe/Berlin
BEGIN:STANDARD
DTSTART:20001029T040000
RRULE:FREQ=YEARLY;BYDAY=-1SU;BYMONTH=10
TZNAME:CET
TZOFFSETFROM:+0200
TZOFFSETTO:+0100
END:STANDARD
BEGIN:DAYLIGHT
DTSTART:20000326T030000
RRULE:FREQ=YEARLY;BYDAY=-1SU;BYMONTH=3
TZNAME:CEST
TZOFFSETFROM:+0100
TZOFFSETTO:+0200
END:DAYLIGHT
END:VTIMEZONE
BEGIN:VEVENT
UID:pretix-gscmoers-blacktigers-4710048@gscmoers.vereinsticket.de
DTSTART;TZID=Europe/Berlin:20251123T193000
DTEND;TZID=Europe/Berlin:20251123T203000
DESCRIPTION:Tickets: https://gscmoers.vereinsticket.de/blacktigers/4710048/
 \nEinlass: 23.11.2025 18:30\nVeranstalter: Grafschafter Schlittschuh Club 
 Moers
DTSTAMP:20260425T181240Z
LOCATION:Enni Eiswelt\, Filder Straße 148\, 47447 Moers
SUMMARY:Heimspiel gegen Neuss
END:VEVENT
END:VCALENDAR
