BEGIN:VCALENDAR
VERSION:2.0
PRODID:-//pretix//pretix.eu//
BEGIN:VTIMEZONE
TZID:Europe/Berlin
BEGIN:STANDARD
DTSTART:20001029T040000
RRULE:FREQ=YEARLY;BYDAY=-1SU;BYMONTH=10
TZNAME:CET
TZOFFSETFROM:+0200
TZOFFSETTO:+0100
END:STANDARD
BEGIN:DAYLIGHT
DTSTART:20000326T030000
RRULE:FREQ=YEARLY;BYDAY=-1SU;BYMONTH=3
TZNAME:CEST
TZOFFSETFROM:+0100
TZOFFSETTO:+0200
END:DAYLIGHT
END:VTIMEZONE
BEGIN:VEVENT
UID:pretix-gscmoers-blacktigers-4671674@gscmoers.vereinsticket.de
DTSTART;TZID=Europe/Berlin:20251109T181500
DTEND;TZID=Europe/Berlin:20251109T191500
DESCRIPTION:Tickets: https://gscmoers.vereinsticket.de/blacktigers/4671674/
 \nEinlass: 09.11.2025 17:30\nVeranstalter: Grafschafter Schlittschuh Club 
 Moers
DTSTAMP:20260425T181240Z
LOCATION:Enni Eiswelt\, Filder Straße 148\, 47447 Moers
SUMMARY:Heimspiel gegen Dinslaken
END:VEVENT
END:VCALENDAR
